BEGIN:VCALENDAR
VERSION:2.0
PRODID:-//James Millikin Homestead - ECPv6.15.20//NONSGML v1.0//EN
CALSCALE:GREGORIAN
METHOD:PUBLISH
X-WR-CALNAME:James Millikin Homestead
X-ORIGINAL-URL:https://jamesmillikinhomestead.com
X-WR-CALDESC:Events for James Millikin Homestead
REFRESH-INTERVAL;VALUE=DURATION:PT1H
X-Robots-Tag:noindex
X-PUBLISHED-TTL:PT1H
BEGIN:VTIMEZONE
TZID:UTC
BEGIN:STANDARD
TZOFFSETFROM:+0000
TZOFFSETTO:+0000
TZNAME:UTC
DTSTART:20250101T000000
END:STANDARD
END:VTIMEZONE
BEGIN:VEVENT
DTSTART;TZID=UTC:20260423T173000
DTEND;TZID=UTC:20260423T183000
DTSTAMP:20260423T123501
CREATED:20260314T201346Z
LAST-MODIFIED:20260314T201346Z
UID:1217-1776965400-1776969000@jamesmillikinhomestead.com
SUMMARY:JMH Annual Meeting with Special Guest\, Dan Monroe
DESCRIPTION:Our Annual Meeting\, open to the general public\, will begin at 5:30 with a short informational meeting\, then our featured speaker\, Millikin History Professor\, Dan Monroe\, will speak about Abraham Lincoln! This is a FREE event!
URL:https://jamesmillikinhomestead.com/event/jmh-annual-meeting-with-special-guest-dan-monroe/
LOCATION:James Millikin Homestead\, 125 N Pine st\, Decatur\, IL\, 62522\, United States
ATTACH;FMTTYPE=image/jpeg:https://jamesmillikinhomestead.com/wp-content/uploads/2026/03/annual-mtg26.jpg
ORGANIZER;CN="James Millikin Homestead":MAILTO:info@jamesmillikinhomestead.com
END:VEVENT
END:VCALENDAR