BEGIN:VCALENDAR
VERSION:2.0
PRODID:-//James Millikin Homestead - ECPv6.15.20//NONSGML v1.0//EN
CALSCALE:GREGORIAN
METHOD:PUBLISH
X-WR-CALNAME:James Millikin Homestead
X-ORIGINAL-URL:https://jamesmillikinhomestead.com
X-WR-CALDESC:Events for James Millikin Homestead
REFRESH-INTERVAL;VALUE=DURATION:PT1H
X-Robots-Tag:noindex
X-PUBLISHED-TTL:PT1H
BEGIN:VTIMEZONE
TZID:UTC
BEGIN:STANDARD
TZOFFSETFROM:+0000
TZOFFSETTO:+0000
TZNAME:UTC
DTSTART:20220101T000000
END:STANDARD
END:VTIMEZONE
BEGIN:VEVENT
DTSTART;TZID=UTC:20240106T120000
DTEND;TZID=UTC:20240106T150000
DTSTAMP:20260424T152949
CREATED:20231103T212652Z
LAST-MODIFIED:20231103T212652Z
UID:457-1704542400-1704553200@jamesmillikinhomestead.com
SUMMARY:Nativity at the Homestead
DESCRIPTION:Back by popular demand!\nA Nativity Display at the James Millikin Homestead 125 N. Pine Street\, Decatur\nSaturday and Sunday\, January 6th and 7th 12 pm – 3 pm\nAdmission: $5 per person; children under 10 are free. All proceeds help support the preservation of this Decatur landmark.\nEnd the Christmas season by touring a variety of nativity styles ranging from vintage to modern- all loaned by local people.\nYou also get a last glimpse of the beautiful Christmas decorations throughout the home and the display of antique Christmas tree items in the History Room
URL:https://jamesmillikinhomestead.com/event/nativity-at-the-homestead-2/
ATTACH;FMTTYPE=image/jpeg:https://jamesmillikinhomestead.com/wp-content/uploads/2023/11/jmh-nativity.jpg
END:VEVENT
BEGIN:VEVENT
DTSTART;TZID=UTC:20231203T123000
DTEND;TZID=UTC:20231203T153000
DTSTAMP:20260424T152949
CREATED:20231103T210041Z
LAST-MODIFIED:20231103T210041Z
UID:451-1701606600-1701617400@jamesmillikinhomestead.com
SUMMARY:Christmas Open House
DESCRIPTION:Come see the Homestead all dressed up for Christmas! FREE admission!
URL:https://jamesmillikinhomestead.com/event/christmas-open-house/
ATTACH;FMTTYPE=image/jpeg:https://jamesmillikinhomestead.com/wp-content/uploads/2023/11/IMG_20191123_095922053-1-scaled.jpg
END:VEVENT
BEGIN:VEVENT
DTSTART;TZID=UTC:20231029T140000
DTEND;TZID=UTC:20231029T160000
DTSTAMP:20260424T152949
CREATED:20230812T194359Z
LAST-MODIFIED:20230812T201148Z
UID:387-1698588000-1698595200@jamesmillikinhomestead.com
SUMMARY:October Open House
DESCRIPTION:Come explore the Homestead! While you’re here\, check out our new exhibit in the History Room\, “Elegant Dining in Victorian Times.” Open House admission is $3 for adults\, $1 for Children 5-12\, and Children under 5 are Free.
URL:https://jamesmillikinhomestead.com/event/october-open-house/
LOCATION:James Millikin Homestead\, 125 N Pine st\, Decatur\, IL\, 62522\, United States
ATTACH;FMTTYPE=image/jpeg:https://jamesmillikinhomestead.com/wp-content/uploads/2023/05/Cover-Photo.jpg
ORGANIZER;CN="James Millikin Homestead":MAILTO:info@jamesmillikinhomestead.com
END:VEVENT
BEGIN:VEVENT
DTSTART;TZID=UTC:20231007T170000
DTEND;TZID=UTC:20231007T210000
DTSTAMP:20260424T152949
CREATED:20230814T194343Z
LAST-MODIFIED:20230814T194732Z
UID:394-1696698000-1696712400@jamesmillikinhomestead.com
SUMMARY:Taste of History 2023
DESCRIPTION:We’re thrilled to announce the date of this year’s Taste of History!\n\n\nTaste of History is a progressive evening of cocktails and hors d’oeuvres around different historic sites in Decatur.\n\nMark your calendars for Saturday\, October 7\, 2023. The event will be from 5 pm – 9 pm.\n\n\nGo to https://www.muellermuseum.org/Taste-of-History for more information.
URL:https://jamesmillikinhomestead.com/event/taste-of-history-2023/
LOCATION:James Millikin Homestead\, 125 N Pine st\, Decatur\, IL\, 62522\, United States
ATTACH;FMTTYPE=image/jpeg:https://jamesmillikinhomestead.com/wp-content/uploads/2023/08/TOH23.jpg
ORGANIZER;CN="James Millikin Homestead":MAILTO:info@jamesmillikinhomestead.com
END:VEVENT
BEGIN:VEVENT
DTSTART;TZID=UTC:20230924T140000
DTEND;TZID=UTC:20230924T160000
DTSTAMP:20260424T152949
CREATED:20230812T194243Z
LAST-MODIFIED:20230812T201057Z
UID:385-1695564000-1695571200@jamesmillikinhomestead.com
SUMMARY:September Open House
DESCRIPTION:Come explore the Homestead! While you’re here\, check out our new exhibit in the History Room\, “Elegant Dining in Victorian Times.” Open House admission is $3 for adults\, $1 for Children 5-12\, and Children under 5 are Free
URL:https://jamesmillikinhomestead.com/event/september-open-house/
LOCATION:James Millikin Homestead\, 125 N Pine st\, Decatur\, IL\, 62522\, United States
ATTACH;FMTTYPE=image/jpeg:https://jamesmillikinhomestead.com/wp-content/uploads/2023/05/Cover-Photo.jpg
ORGANIZER;CN="James Millikin Homestead":MAILTO:info@jamesmillikinhomestead.com
END:VEVENT
BEGIN:VEVENT
DTSTART;TZID=UTC:20230827T140000
DTEND;TZID=UTC:20230827T160000
DTSTAMP:20260424T152949
CREATED:20230812T193939Z
LAST-MODIFIED:20230812T200942Z
UID:381-1693144800-1693152000@jamesmillikinhomestead.com
SUMMARY:August Open House
DESCRIPTION:Come explore the Homestead! While you’re here\, check out our new exhibit in the History Room\, “Elegant Dining in Victorian Times.” Open House admission is $3 for adults\, $1 for Children 5-12\, and Children under 5 are Free
URL:https://jamesmillikinhomestead.com/event/august-open-house/
LOCATION:James Millikin Homestead\, 125 N Pine st\, Decatur\, IL\, 62522\, United States
ATTACH;FMTTYPE=image/jpeg:https://jamesmillikinhomestead.com/wp-content/uploads/2023/05/Cover-Photo.jpg
ORGANIZER;CN="James Millikin Homestead":MAILTO:info@jamesmillikinhomestead.com
END:VEVENT
BEGIN:VEVENT
DTSTART;TZID=UTC:20230626T140000
DTEND;TZID=UTC:20230626T160000
DTSTAMP:20260424T152949
CREATED:20230529T160127Z
LAST-MODIFIED:20230812T200725Z
UID:169-1687788000-1687795200@jamesmillikinhomestead.com
SUMMARY:June Open House
DESCRIPTION:join us for our June open house
URL:https://jamesmillikinhomestead.com/event/june-open-house/
ATTACH;FMTTYPE=image/jpeg:https://jamesmillikinhomestead.com/wp-content/uploads/2023/05/Cover-Photo.jpg
END:VEVENT
END:VCALENDAR